

BEGIN:VCALENDAR
VERSION:2.0
PRODID:-//Pokesdown Community Forum - ECPv4.7.3//NONSGML v1.0//EN
CALSCALE:GREGORIAN
METHOD:PUBLISH
X-WR-CALNAME:Pokesdown Community Forum
X-ORIGINAL-URL:http://pokesdowncommunityforum.org.uk
X-WR-CALDESC:Events for Pokesdown Community Forum
BEGIN:VEVENT
DTSTART;TZID=Europe/London:20190207T183000
DTEND;TZID=Europe/London:20190207T193000
DTSTAMP:20260421T084609
CREATED:20190110T084816Z
LAST-MODIFIED:20190204T210912Z
UID:482-1549564200-1549567800@pokesdowncommunityforum.org.uk
SUMMARY:Test Meeting
DESCRIPTION:Pokesdown Community Forum Meetings\nTest meeting\, please do not attend… \n
URL:http://pokesdowncommunityforum.org.uk/event/test-meeting/
LOCATION:test\, test road\, test town\, Test\, BH\, United Kingdom
CATEGORIES:Pokesdown Community Meetings
ATTACH;FMTTYPE=image/jpeg:http://pokesdowncommunityforum.org.uk/wp-content/uploads/2019/01/pokesdown-community-forum-placeholder.jpg
ORGANIZER;CN="Pokesdown%20Community%20Forum":MAILTO:pokesdown.cf@gmail.com
END:VEVENT
END:VCALENDAR