

BEGIN:VCALENDAR
VERSION:2.0
PRODID:-//Pokesdown Community Forum - ECPv4.7.3//NONSGML v1.0//EN
CALSCALE:GREGORIAN
METHOD:PUBLISH
X-WR-CALNAME:Pokesdown Community Forum
X-ORIGINAL-URL:http://pokesdowncommunityforum.org.uk
X-WR-CALDESC:Events for Pokesdown Community Forum
BEGIN:VEVENT
DTSTART;TZID=Europe/London:20190330T153000
DTEND;TZID=Europe/London:20190330T170000
DTSTAMP:20260421T054231
CREATED:20190325T112042Z
LAST-MODIFIED:20190325T112042Z
UID:605-1553959800-1553965200@pokesdowncommunityforum.org.uk
SUMMARY:test meeting
DESCRIPTION:test meeting \n
URL:http://pokesdowncommunityforum.org.uk/event/test-meeting-2/
LOCATION:test\, test road\, test town\, Test\, BH\, United Kingdom
CATEGORIES:Pokesdown Community Meetings
ORGANIZER;CN="Pokesdown%20Community%20Forum":MAILTO:pokesdown.cf@gmail.com
END:VEVENT
END:VCALENDAR