

BEGIN:VCALENDAR
VERSION:2.0
PRODID:-//Pokesdown Community Forum - ECPv4.7.3//NONSGML v1.0//EN
CALSCALE:GREGORIAN
METHOD:PUBLISH
X-WR-CALNAME:Pokesdown Community Forum
X-ORIGINAL-URL:http://pokesdowncommunityforum.org.uk
X-WR-CALDESC:Events for Pokesdown Community Forum
BEGIN:VEVENT
DTSTART;TZID=Europe/London:20190327T150000
DTEND;TZID=Europe/London:20190327T173000
DTSTAMP:20260421T070502
CREATED:20190325T111941Z
LAST-MODIFIED:20190325T112139Z
UID:603-1553698800-1553707800@pokesdowncommunityforum.org.uk
SUMMARY:Test Event
DESCRIPTION:test event \n
URL:http://pokesdowncommunityforum.org.uk/event/test-event/
LOCATION:test\, test road\, test town\, Test\, BH\, United Kingdom
CATEGORIES:Markets and Community Events
ORGANIZER;CN="Pokesdown%20Community%20Forum":MAILTO:pokesdown.cf@gmail.com
END:VEVENT
END:VCALENDAR