

BEGIN:VCALENDAR
VERSION:2.0
PRODID:-//Pokesdown Community Forum - ECPv4.7.3//NONSGML v1.0//EN
CALSCALE:GREGORIAN
METHOD:PUBLISH
X-WR-CALNAME:Pokesdown Community Forum
X-ORIGINAL-URL:http://pokesdowncommunityforum.org.uk
X-WR-CALDESC:Events for Pokesdown Community Forum
BEGIN:VEVENT
DTSTART;TZID=Europe/London:20190328T190000
DTEND;TZID=Europe/London:20190328T210000
DTSTAMP:20260421T054133
CREATED:20190325T113100Z
LAST-MODIFIED:20190325T113100Z
UID:610-1553799600-1553806800@pokesdowncommunityforum.org.uk
SUMMARY:Councillors’ Surgeries
DESCRIPTION:Councillors’ Surgeries Event \n
URL:http://pokesdowncommunityforum.org.uk/event/councillors-surgeries/
LOCATION:test\, test road\, test town\, Test\, BH\, United Kingdom
CATEGORIES:Councillors’ Surgeries
ORGANIZER;CN="Pokesdown%20Community%20Forum":MAILTO:pokesdown.cf@gmail.com
END:VEVENT
END:VCALENDAR